BEGIN:VCALENDAR
VERSION:2.0
PRODID:-//ASFeC - ECPv6.15.3//NONSGML v1.0//EN
CALSCALE:GREGORIAN
METHOD:PUBLISH
X-ORIGINAL-URL:https://asfec.cat
X-WR-CALDESC:Eventos para ASFeC
REFRESH-INTERVAL;VALUE=DURATION:PT1H
X-Robots-Tag:noindex
X-PUBLISHED-TTL:PT1H
BEGIN:VTIMEZONE
TZID:Europe/Paris
BEGIN:DAYLIGHT
TZOFFSETFROM:+0100
TZOFFSETTO:+0200
TZNAME:CEST
DTSTART:20190331T010000
END:DAYLIGHT
BEGIN:STANDARD
TZOFFSETFROM:+0200
TZOFFSETTO:+0100
TZNAME:CET
DTSTART:20191027T010000
END:STANDARD
BEGIN:DAYLIGHT
TZOFFSETFROM:+0100
TZOFFSETTO:+0200
TZNAME:CEST
DTSTART:20200329T010000
END:DAYLIGHT
BEGIN:STANDARD
TZOFFSETFROM:+0200
TZOFFSETTO:+0100
TZNAME:CET
DTSTART:20201025T010000
END:STANDARD
BEGIN:DAYLIGHT
TZOFFSETFROM:+0100
TZOFFSETTO:+0200
TZNAME:CEST
DTSTART:20210328T010000
END:DAYLIGHT
BEGIN:STANDARD
TZOFFSETFROM:+0200
TZOFFSETTO:+0100
TZNAME:CET
DTSTART:20211031T010000
END:STANDARD
BEGIN:DAYLIGHT
TZOFFSETFROM:+0100
TZOFFSETTO:+0200
TZNAME:CEST
DTSTART:20220327T010000
END:DAYLIGHT
BEGIN:STANDARD
TZOFFSETFROM:+0200
TZOFFSETTO:+0100
TZNAME:CET
DTSTART:20221030T010000
END:STANDARD
BEGIN:DAYLIGHT
TZOFFSETFROM:+0100
TZOFFSETTO:+0200
TZNAME:CEST
DTSTART:20230326T010000
END:DAYLIGHT
BEGIN:STANDARD
TZOFFSETFROM:+0200
TZOFFSETTO:+0100
TZNAME:CET
DTSTART:20231029T010000
END:STANDARD
BEGIN:DAYLIGHT
TZOFFSETFROM:+0100
TZOFFSETTO:+0200
TZNAME:CEST
DTSTART:20240331T010000
END:DAYLIGHT
BEGIN:STANDARD
TZOFFSETFROM:+0200
TZOFFSETTO:+0100
TZNAME:CET
DTSTART:20241027T010000
END:STANDARD
END:VTIMEZONE
BEGIN:VTIMEZONE
TZID:UTC
BEGIN:STANDARD
TZOFFSETFROM:+0000
TZOFFSETTO:+0000
TZNAME:UTC
DTSTART:20190101T000000
END:STANDARD
END:VTIMEZONE
BEGIN:VEVENT
DTSTART;VALUE=DATE:20240309
DTEND;VALUE=DATE:20240311
DTSTAMP:20260423T183951
CREATED:20240120T092747Z
LAST-MODIFIED:20240120T092747Z
UID:2830-1709942400-1710115199@asfec.cat
SUMMARY:Sants 2024
DESCRIPTION:Licencia\nPublicidad Expositores\nInscripciones \n¡Ven a visitarnos!\nDurante los días 09 y 10 de Marzo 2024 celebraremos una nueva exposición internacional felina donde contaremos con la presencia de jueces internacionales y diferentes razas de gatos\, entre las que podremos contemplar Maine Coons\, Persas\, Siberianos\, Exóticos\, British\, Azules Rusos\, Abisinios\, Sphinx… \nEn esta exposición podrán participar criadores de diferentes federaciones felinas de distintos países de Europa (Francia\, Italia\, Alemania\,Suiza …) también podrán participar particulares con sus gatitos previa inscripción\, para ello deberán de ponerse en contacto con nuestra asociación a través de nuestro correo exposicionesasfec@gmail.com. \nLa exposición estará abierta para el público desde las 10.00 hasta las 18.00h ininterrumpidamente.
URL:https://asfec.cat/event/sants-2024/
LOCATION:Sants Barcelona\, Carrer de Sants\, 79\, Barcelona\, Barcelona\, 08014
ORGANIZER;CN="ASFeC":MAILTO:asfecinfo@gmail.com
END:VEVENT
BEGIN:VEVENT
DTSTART;VALUE=DATE:20230415
DTEND;VALUE=DATE:20230417
DTSTAMP:20260423T183951
CREATED:20230401T082524Z
LAST-MODIFIED:20230401T112223Z
UID:2822-1681516800-1681689599@asfec.cat
SUMMARY:Sants 2023
DESCRIPTION:Licencia\nPublicidad Expositores\nInscripciones \n¡Ven a visitarnos!\nDurante los días 15 y 16 de Abril 2023 celebraremos una nueva exposición internacional felina donde contaremos con la presencia de jueces internacionales y diferentes razas de gatos\, entre las que podremos contemplar Maine Coons\, Persas\, Siberianos\, Exóticos\, British\, Azules Rusos\, Abisinios\, Sphinx… \nEn esta exposición podrán participar criadores de diferentes federaciones felinas de distintos países de Europa (Francia\, Italia\, Alemania\,Suiza …) también podrán participar particulares con sus gatitos previa inscripción\, para ello deberán de ponerse en contacto con nuestra asociación a través de nuestro correo exposicionesasfec@gmail.com. \nLa exposición estará abierta para el público desde las 10.00 hasta las 18.00h ininterrumpidamente.
URL:https://asfec.cat/event/sants-2023/
LOCATION:Sants Barcelona\, Carrer de Sants\, 79\, Barcelona\, Barcelona\, 08014
ORGANIZER;CN="ASFeC":MAILTO:asfecinfo@gmail.com
END:VEVENT
BEGIN:VEVENT
DTSTART;VALUE=DATE:20221001
DTEND;VALUE=DATE:20221003
DTSTAMP:20260423T183951
CREATED:20220818T080451Z
LAST-MODIFIED:20220910T134908Z
UID:2811-1664582400-1664755199@asfec.cat
SUMMARY:Sants
DESCRIPTION:Licencia\nPublicidad Expositores\nInscripciones \n¡Ven a visitarnos!\nDurante los días 1 y 2 de Octubre 2022 celebraremos una nueva exposición mundial felina donde contaremos con la presencia de jueces internacionales y diferentes razas de gatos\, entre las que podremos contemplar Maine Coons\, Persas\, Siberianos\, Exóticos\, British\, Azules Rusos\, Abisinios\, Sphinx… \nEn esta exposición podrán participar criadores de diferentes federaciones felinas de distintos países de Europa (Francia\, Italia\, Alemania\,Suiza …) también podrán participar particulares con sus gatitos previa inscripción\, para ello deberán de ponerse en contacto con nuestra asociación a través de nuestro correo exposicionesasfec@gmail.com. \nLa exposición estará abierta para el público desde las 10.00 hasta las 18.00h ininterrumpidamente.
URL:https://asfec.cat/event/sants-2/
LOCATION:Sants Barcelona\, Carrer de Sants\, 79\, Barcelona\, Barcelona\, 08014
ORGANIZER;CN="ASFeC":MAILTO:asfecinfo@gmail.com
END:VEVENT
BEGIN:VEVENT
DTSTART;VALUE=DATE:20220423
DTEND;VALUE=DATE:20220425
DTSTAMP:20260423T183951
CREATED:20220219T114931Z
LAST-MODIFIED:20220219T114938Z
UID:2801-1650672000-1650844799@asfec.cat
SUMMARY:Sants
DESCRIPTION:Licencia\nPublicidad Expositores\n¡Ven a visitarnos!\nDurante los días 23 y 24 de Abril 2022 celebraremos una nueva exposición internacional felina donde contaremos con la presencia de jueces internacionales y diferentes razas de gatos\, entre las que podremos contemplar Maine Coons\, Persas\, Siberianos\, Exóticos\, British\, Azules Rusos\, Abisinios\, Sphinx… \nEn esta exposición podrán participar criadores de diferentes federaciones felinas de distintos países de Europa (Francia\, Italia\, Alemania\,Suiza …) también podrán participar particulares con sus gatitos previa inscripción\, para ello deberán de ponerse en contacto con nuestra asociación a través de nuestro correo exposicionesasfec@gmail.com. \nLa exposición estará abierta para el público desde las 09.00 hasta las 19.00h ininterrumpidamente.
URL:https://asfec.cat/event/sants/
LOCATION:Sants Barcelona\, Carrer de Sants\, 79\, Barcelona\, Barcelona\, 08014
ORGANIZER;CN="ASFeC":MAILTO:asfecinfo@gmail.com
END:VEVENT
BEGIN:VEVENT
DTSTART;VALUE=DATE:20200314
DTEND;VALUE=DATE:20200316
DTSTAMP:20260423T183951
CREATED:20200210T095803Z
LAST-MODIFIED:20200210T095803Z
UID:2748-1584144000-1584316799@asfec.cat
SUMMARY:Reus
DESCRIPTION:Licencia\nPublicidad Expositores\nInscribirse\n¡Ven a visitarnos!\nDurante los días 14 y 15 de Marzo 2020 celebraremos una nueva exposición internacional felina donde contaremos con la presencia de jueces internacionales y diferentes razas de gatos\, entre las que podremos contemplar Maine Coons\, Persas\, Siberianos\, Exóticos\, British\, Azules Rusos\, Abisinios\, Sphinx… \nEn esta exposición podrán participar criadores de diferentes federaciones felinas de distintos países de Europa (Francia\, Italia\, Alemania\,Suiza …) también podrán participar particulares con sus gatitos previa inscripción\, para ello deberán de ponerse en contacto con nuestra asociación a través de nuestro correo exposicionesasfec@gmail.com. \nLa exposición estará abierta para el público desde las 10.00 hasta las 19.00h ininterrumpidamente.
URL:https://asfec.cat/event/reus/
LOCATION:Reus\, Av. Bellisens 42\, Reus\, Tarragona\, España
ORGANIZER;CN="ASFeC":MAILTO:asfecinfo@gmail.com
END:VEVENT
BEGIN:VEVENT
DTSTART;VALUE=DATE:20191207
DTEND;VALUE=DATE:20191209
DTSTAMP:20260423T183951
CREATED:20191030T091245Z
LAST-MODIFIED:20191030T091245Z
UID:2725-1575676800-1575849599@asfec.cat
SUMMARY:Campdevanol
DESCRIPTION:Licencia\nPublicidad – Precios – Horarios\nPublicidad Expositores\nInscribirse\n¡Ven a visitarnos!\nDurante los días 7 y 8 de Diciembre 2019 celebraremos una nueva exposición internacional felina donde contaremos con la presencia de jueces internacionales y diferentes razas de gatos\, entre las que podremos contemplar Maine Coons\, Persas\, Siberianos\, Exóticos\, British\, Azules Rusos\, Abisinios\, Sphinx… \nEn esta exposición podrán participar criadores de diferentes federaciones felinas de distintos países de Europa (Francia\, Italia\, Alemania\,Suiza …) también podrán participar particulares con sus gatitos previa inscripción\, para ello deberán de ponerse en contacto con nuestra asociación a través de nuestro correo exposicionesasfec@gmail.com. \nLa exposición estará abierta para el público desde las 10.00 hasta las 19.00h ininterrumpidamente.
URL:https://asfec.cat/event/campdevanol/
LOCATION:Campdevanol\, Girona\, 17530\, España
ATTACH;FMTTYPE=image/jpeg:https://asfec.cat/wp-content/uploads/2019/10/banner_campdevanol.jpg
ORGANIZER;CN="ASFeC":MAILTO:asfecinfo@gmail.com
END:VEVENT
BEGIN:VEVENT
DTSTART;VALUE=DATE:20190928
DTEND;VALUE=DATE:20190930
DTSTAMP:20260423T183951
CREATED:20160316T115245Z
LAST-MODIFIED:20190716T163620Z
UID:618-1569628800-1569801599@asfec.cat
SUMMARY:Barcelona
DESCRIPTION:Licencia\nPublicidad – Precios – Horarios\nInscribirse\n¡Ven a visitarnos!\nDurante los días 28 y 29 de Septiembre de 2019 celebraremos una nueva exposición internacional felina donde contaremos con la presencia de jueces internacionales y diferentes razas de gatos\, entre las que podremos contemplar Maine Coons\, Persas\, Siberianos\, Exóticos\, British\, Azules Rusos\, Abisinios\, Sphinx… \nEn esta exposición podrán participar criadores de diferentes federaciones felinas de distintos países de Europa (Francia\, Italia\, Alemania\,Suiza …) también podrán participar particulares con sus gatitos previa inscripción\, para ello deberán de ponerse en contacto con nuestra asociación a través de nuestro correo exposicionesasfec@gmail.com. \nLa exposición estará abierta para el público desde las 10.00 hasta las 19.00h ininterrumpidamente. \nAuditorio Sala de exposiciones\nAcceso sala de exposiciones\, auditorio.
URL:https://asfec.cat/event/sants-2019/
LOCATION:Sants Barcelona\, Carrer de Sants\, 79\, Barcelona\, Barcelona\, 08014
CATEGORIES:Event
ATTACH;FMTTYPE=image/jpeg:https://asfec.cat/wp-content/uploads/2016/03/Barceloona-8-e1552581947141.jpg
ORGANIZER;CN="ASFeC":MAILTO:asfecinfo@gmail.com
END:VEVENT
BEGIN:VEVENT
DTSTART;VALUE=DATE:20190803
DTEND;VALUE=DATE:20190805
DTSTAMP:20260423T183951
CREATED:20190323T105542Z
LAST-MODIFIED:20190323T105542Z
UID:2663-1564790400-1564963199@asfec.cat
SUMMARY:Nassogne
DESCRIPTION:Exposición en Nassogne\, Bélgica. Organizada por Organisation Féline Belge. \nhttps://www.organisation-feline-belge.com/
URL:https://asfec.cat/event/nassogne/
LOCATION:Nassogne\, Belgium
ATTACH;FMTTYPE=image/png:https://asfec.cat/wp-content/uploads/2019/03/belgium.png
END:VEVENT
BEGIN:VEVENT
DTSTART;VALUE=DATE:20190608
DTEND;VALUE=DATE:20190610
DTSTAMP:20260423T183951
CREATED:20190323T105358Z
LAST-MODIFIED:20190323T105358Z
UID:2659-1559952000-1560124799@asfec.cat
SUMMARY:Riga
DESCRIPTION:Exposición en Riga\, Letonia. \nhttps://www.felimur.lv
URL:https://asfec.cat/event/riga/
LOCATION:Riga\, Latvia
ATTACH;FMTTYPE=image/png:https://asfec.cat/wp-content/uploads/2019/03/latvia.png
END:VEVENT
BEGIN:VEVENT
DTSTART;VALUE=DATE:20190511
DTEND;VALUE=DATE:20190513
DTSTAMP:20260423T183951
CREATED:20190323T105108Z
LAST-MODIFIED:20190323T105108Z
UID:2655-1557532800-1557705599@asfec.cat
SUMMARY:Arad
DESCRIPTION:Exposición en Arad\, Rumania. Organizada por Clubul Felin Magnificats. \nhttp://www.catshow.ro/
URL:https://asfec.cat/event/arad/
LOCATION:Arad\, Romania
ATTACH;FMTTYPE=image/png:https://asfec.cat/wp-content/uploads/2019/03/romania.png
END:VEVENT
BEGIN:VEVENT
DTSTART;VALUE=DATE:20190420
DTEND;VALUE=DATE:20190422
DTSTAMP:20260423T183951
CREATED:20190323T104726Z
LAST-MODIFIED:20190323T104726Z
UID:2651-1555718400-1555891199@asfec.cat
SUMMARY:Arlon
DESCRIPTION:Exposición en Arlon\, Belgica. Organizada por Organisation Féline Belge \nhttps://www.organisation-feline-belge.com/
URL:https://asfec.cat/event/arlon/
LOCATION:Arlon\, Belgium
ATTACH;FMTTYPE=image/png:https://asfec.cat/wp-content/uploads/2019/03/belgium.png
END:VEVENT
BEGIN:VEVENT
DTSTART;VALUE=DATE:20190413
DTEND;VALUE=DATE:20190415
DTSTAMP:20260423T183951
CREATED:20190323T103625Z
LAST-MODIFIED:20190323T103823Z
UID:2642-1555113600-1555286399@asfec.cat
SUMMARY:Penza
DESCRIPTION:Exposición en Penza\, Russia organizada por OOLZh «Elitar-Klub» \nhttps://en.top-cat.org/cat-shows/3097
URL:https://asfec.cat/event/penza/
LOCATION:Penza\, Penza\, Russian Federation
ATTACH;FMTTYPE=image/png:https://asfec.cat/wp-content/uploads/2019/03/rusia-e1553337490481.png
END:VEVENT
BEGIN:VEVENT
DTSTART;VALUE=DATE:20190406
DTEND;VALUE=DATE:20190408
DTSTAMP:20260423T183951
CREATED:20190323T104409Z
LAST-MODIFIED:20190323T104409Z
UID:2647-1554508800-1554681599@asfec.cat
SUMMARY:Irun
DESCRIPTION:Exposición en Irun\, España. Organizada por AMOBS STAR. \nhttps://www.amobsstar.com/
URL:https://asfec.cat/event/irun/
LOCATION:Irun\, Irun\, Spain
ATTACH;FMTTYPE=image/png:https://asfec.cat/wp-content/uploads/2019/03/españa.png
END:VEVENT
BEGIN:VEVENT
DTSTART;VALUE=DATE:20190323
DTEND;VALUE=DATE:20190325
DTSTAMP:20260423T183951
CREATED:20190319T194739Z
LAST-MODIFIED:20190323T103116Z
UID:2476-1553299200-1553471999@asfec.cat
SUMMARY:Chiasso
DESCRIPTION:Exposición organizada por Associazione Felina della Svizzera Italiana en Chiasso\, Suiza. \nhttps://en.top-cat.org/cat-shows/3095
URL:https://asfec.cat/event/chiasso/
LOCATION:Chiasso\, Chiasso\, Switzerland
ATTACH;FMTTYPE=image/png:https://asfec.cat/wp-content/uploads/2019/03/switzerland.png
END:VEVENT
END:VCALENDAR